BEGIN:VCALENDAR
VERSION:2.0
PRODID:-//Contratero//ES
CALSCALE:GREGORIAN
METHOD:PUBLISH
BEGIN:VEVENT
UID:UNED BAZA PNSP 2/2023@contratero.es
DTSTAMP:20260423T044708Z
DTSTART:20230313T235959
DTEND:20230314T005959
SUMMARY:Cierre: Servicios de mantenimiento integral\, correctivo y 
DESCRIPTION:Servicios de mantenimiento integral\, correctivo y evolutivo\, del Software de Contabilidad y Gestión Aplined.\\n\\nOrganismo: Presidencia del Consorcio Universitario del Centro Asociado a la UNED en Baza\\n\\nVer en Contratero: https://contratero.es/contracts/UNED BAZA PNSP 2/2023
URL:https://contratero.es/contracts/UNED BAZA PNSP 2/2023
STATUS:CONFIRMED
BEGIN:VALARM
TRIGGER:-P1D
ACTION:DISPLAY
DESCRIPTION:Recordatorio: Servicios de mantenimiento int
END:VALARM
END:VEVENT
END:VCALENDAR